BEGIN:VCALENDAR
VERSION:2.0
PRODID:-//wp-events-plugin.com//7.2.3.1//EN
TZID:Europe/Amsterdam
X-WR-TIMEZONE:Europe/Amsterdam
BEGIN:VEVENT
UID:2080@worldglaucomaweek.org
DTSTART;TZID=Europe/Amsterdam:20180311T090000
DTEND;TZID=Europe/Amsterdam:20180317T180000
DTSTAMP:20180315T175617Z
URL:https://www.worldglaucomaweek.org/activity/information-campaign/
SUMMARY:Information Campaign &amp\; Glaucoma Screening
DESCRIPTION:Video film showing information on glaucoma and patient testimon
 ies at AHMC Lobby.\n\nPublication of article on glaucoma in the AHMC Newsl
 etter .\n\nGlaucoma Screening at RDReyes Eye Clinic
ATTACH;FMTTYPE=image/jpeg:https://www.worldglaucomaweek.org/wp-content/upl
 oads/2018/03/IMG_3697.jpg
CATEGORIES:Public educational
LOCATION:RDReyes Eye Clinic\, Room 405 Asian Hospital &amp\; Medical Center
 \, 2205 Civic Drive\, Muntinlupa City\, Metro Manila\, 1780\, National Cap
 ital Region\, Philippines
GEO:14.4146644;121.04339800000002
X-APPLE-STRUCTURED-LOCATION;VALUE=URI;X-ADDRESS=2205 Civic Drive\, Muntinlu
 pa City\, Metro Manila\, 1780\, National Capital Region\, Philippines;X-AP
 PLE-RADIUS=100;X-TITLE=RDReyes Eye Clinic\, Room 405 Asian Hospital & Medi
 cal Center:geo:14.4146644,121.04339800000002
END:VEVENT
BEGIN:VTIMEZONE
TZID:Europe/Amsterdam
X-LIC-LOCATION:Europe/Amsterdam
BEGIN:STANDARD
DTSTART:20171029T020000
TZOFFSETFROM:+0200
TZOFFSETTO:+0100
TZNAME:CET
END:STANDARD
END:VTIMEZONE
END:VCALENDAR