BEGIN:VCALENDAR
VERSION:2.0
PRODID:-//wp-events-plugin.com//7.2.3.1//EN
TZID:Europe/Amsterdam
X-WR-TIMEZONE:Europe/Amsterdam
BEGIN:VEVENT
UID:2619@worldglaucomaweek.org
DTSTART;TZID=Europe/Amsterdam:20190314T120000
DTEND;TZID=Europe/Amsterdam:20190314T150000
DTSTAMP:20190305T100130Z
URL:https://www.worldglaucomaweek.org/activity/information-and-advice-stan
 d/
SUMMARY:Information and Advice Stand
DESCRIPTION:Information and Advice Stand\, Informal talk\, information and 
 support for older people taking part in health and well-being activities w
 ithin the cottage.
CATEGORIES:Public educational
LOCATION:Orchard Cottage\, Beamish Museum\, County Durham\, DH9 0RG\, Unite
 d Kingdom
GEO:54.88170700000001;-1.6588288000000375
X-APPLE-STRUCTURED-LOCATION;VALUE=URI;X-ADDRESS=Beamish Museum\, County Dur
 ham\, DH9 0RG\, United Kingdom;X-APPLE-RADIUS=100;X-TITLE=Orchard Cottage:
 geo:54.88170700000001,-1.6588288000000375
END:VEVENT
BEGIN:VTIMEZONE
TZID:Europe/Amsterdam
X-LIC-LOCATION:Europe/Amsterdam
BEGIN:STANDARD
DTSTART:20181028T020000
TZOFFSETFROM:+0200
TZOFFSETTO:+0100
TZNAME:CET
END:STANDARD
END:VTIMEZONE
END:VCALENDAR