BEGIN:VCALENDAR
VERSION:2.0
PRODID:-//wp-events-plugin.com//7.2.3.1//EN
TZID:Europe/Amsterdam
X-WR-TIMEZONE:Europe/Amsterdam
BEGIN:VEVENT
UID:1770@worldglaucomaweek.org
DTSTART;TZID=Europe/Amsterdam;VALUE=DATE:20180311
DTEND;TZID=Europe/Amsterdam;VALUE=DATE:20180318
DTSTAMP:20180227T070316Z
URL:https://www.worldglaucomaweek.org/activity/incrementar-conciencia-sobr
 e-deteccion-oportuna-de-glaucoma/
SUMMARY:Incrementar conciencia sobre detección oportuna de Glaucoma
DESCRIPTION:El GLAUCOMA es una enfermedad que afecta a millones de personas
 \, en muchas ocasiones NO genera síntomas. Arriba de los 40 años\, es ne
 cesario una revisión oftalmológica para la detección oportuna de la enf
 ermedad. Durante la Semana Mundial del Glaucoma se busca aumentar la conci
 encia sobre el conocimiento de la enfermedad.
CATEGORIES:Media coverage
LOCATION:Aguascalientes\, Vazquez del Mercado 101\, Aguascalientes\, 20000\
 , Mexico
GEO:21.8852245;-102.29199360000001
X-APPLE-STRUCTURED-LOCATION;VALUE=URI;X-ADDRESS=Vazquez del Mercado 101\, A
 guascalientes\, 20000\, Mexico;X-APPLE-RADIUS=100;X-TITLE=Aguascalientes:g
 eo:21.8852245,-102.29199360000001
END:VEVENT
BEGIN:VTIMEZONE
TZID:Europe/Amsterdam
X-LIC-LOCATION:Europe/Amsterdam
BEGIN:STANDARD
DTSTART:20171029T020000
TZOFFSETFROM:+0200
TZOFFSETTO:+0100
TZNAME:CET
END:STANDARD
END:VTIMEZONE
END:VCALENDAR