BEGIN:VCALENDAR
VERSION:2.0
PRODID:-//wp-events-plugin.com//7.2.3.1//EN
TZID:Europe/Amsterdam
X-WR-TIMEZONE:Europe/Amsterdam
BEGIN:VEVENT
UID:1735@worldglaucomaweek.org
DTSTART;TZID=Europe/Amsterdam;VALUE=DATE:20180311
DTEND;TZID=Europe/Amsterdam;VALUE=DATE:20180318
DTSTAMP:20180225T123357Z
URL:https://www.worldglaucomaweek.org/activity/increase-awareness-via-soci
 al-media/
SUMMARY:Increase Awareness Via Social Media
DESCRIPTION:Dr Alan Mendelsohn is leading the charge to raise awareness abo
 ut glaucoma.\n\nGlaucoma affects a large percentage of the population\, es
 pecially the elderly but yet many are unaware of it until it's too late.\n
 \nIt is critical to raise awareness of it so people can do something about
  it when the glaucoma is at a significantly less advanced stage.\n\nJoin h
 im by tweeting and retweeting content during this week aimed at increasing
  glaucoma awareness.
ATTACH;FMTTYPE=image/jpeg:https://www.worldglaucomaweek.org/wp-content/upl
 oads/2018/02/alan-standing-2.png
CATEGORIES:Media coverage
END:VEVENT
BEGIN:VTIMEZONE
TZID:Europe/Amsterdam
X-LIC-LOCATION:Europe/Amsterdam
BEGIN:STANDARD
DTSTART:20171029T020000
TZOFFSETFROM:+0200
TZOFFSETTO:+0100
TZNAME:CET
END:STANDARD
END:VTIMEZONE
END:VCALENDAR