BEGIN:VCALENDAR
VERSION:2.0
PRODID:-//wp-events-plugin.com//7.2.3.1//EN
TZID:Europe/Amsterdam
X-WR-TIMEZONE:Europe/Amsterdam
BEGIN:VEVENT
UID:1982@worldglaucomaweek.org
DTSTART;TZID=Europe/Amsterdam:20180316T000000
DTEND;TZID=Europe/Amsterdam:20180316T000000
DTSTAMP:20180309T090230Z
URL:https://www.worldglaucomaweek.org/activity/holy-child-hospital-lay-for
 um/
SUMMARY:Holy Child Hospital Lay Forum
DESCRIPTION:
CATEGORIES:Public educational
LOCATION:Holy Child Hospital\, Negros South Road\, Dumaguete City\, Negros 
 Oriental\, Philippines
GEO:9.297510899999999;123.30159120000008
X-APPLE-STRUCTURED-LOCATION;VALUE=URI;X-ADDRESS=Negros South Road\, Dumague
 te City\, Negros Oriental\, Philippines;X-APPLE-RADIUS=100;X-TITLE=Holy Ch
 ild Hospital:geo:9.297510899999999,123.30159120000008
END:VEVENT
BEGIN:VTIMEZONE
TZID:Europe/Amsterdam
X-LIC-LOCATION:Europe/Amsterdam
BEGIN:STANDARD
DTSTART:20171029T020000
TZOFFSETFROM:+0200
TZOFFSETTO:+0100
TZNAME:CET
END:STANDARD
END:VTIMEZONE
END:VCALENDAR