BEGIN:VCALENDAR
VERSION:2.0
PRODID:-//wp-events-plugin.com//7.2.3.1//EN
TZID:Europe/Amsterdam
X-WR-TIMEZONE:Europe/Amsterdam
BEGIN:VEVENT
UID:2210@worldglaucomaweek.org
DTSTART;TZID=Europe/Amsterdam:20180314T080000
DTEND;TZID=Europe/Amsterdam:20180315T140000
DTSTAMP:20180314T155401Z
URL:https://www.worldglaucomaweek.org/activity/health-talk-and-screening-e
 vent/
SUMMARY:health talk and screening event
DESCRIPTION:A radio program was done to educate the people on how to assess
  their risk for glaucoma. it was a followed by a question and answer sessi
 on.\nA screening for glaucoma was done in the multipurpose hall of the hig
 h court during which all staff of the high court was screened together wit
 h community members that were informed during the radio talk[caption id="a
 ttachment_8318" align="alignnone" width="300"] screening event and public 
 enlightenment program[/caption]\n\n\n\n\n\n\n\n\n\n\n\n
ATTACH;FMTTYPE=image/jpeg:https://www.worldglaucomaweek.org/wp-content/upl
 oads/2018/03/WIN_20180314_111620-2.jpg
CATEGORIES:Screening event
LOCATION:osun broadcasting corporation and high court\, okefia\, osogbo\, O
 sun\, 234\, South west\, Nigeria
GEO:7.782917599999999;4.546777799999973
X-APPLE-STRUCTURED-LOCATION;VALUE=URI;X-ADDRESS=okefia\, osogbo\, Osun\, 23
 4\, South west\, Nigeria;X-APPLE-RADIUS=100;X-TITLE=osun broadcasting corp
 oration and high court:geo:7.782917599999999,4.546777799999973
END:VEVENT
BEGIN:VTIMEZONE
TZID:Europe/Amsterdam
X-LIC-LOCATION:Europe/Amsterdam
BEGIN:STANDARD
DTSTART:20171029T020000
TZOFFSETFROM:+0200
TZOFFSETTO:+0100
TZNAME:CET
END:STANDARD
END:VTIMEZONE
END:VCALENDAR