BEGIN:VCALENDAR
VERSION:2.0
PRODID:-//wp-events-plugin.com//7.2.3.1//EN
TZID:Europe/Amsterdam
X-WR-TIMEZONE:Europe/Amsterdam
BEGIN:VEVENT
UID:2776@worldglaucomaweek.org
DTSTART;TZID=Europe/Amsterdam:20190312T090000
DTEND;TZID=Europe/Amsterdam:20190312T123000
DTSTAMP:20190309T152538Z
URL:https://www.worldglaucomaweek.org/activity/health-education/
SUMMARY:Health Education
DESCRIPTION:Rehabilitation of the visually impaired glaucoma patient....The
  role of low visual aids\n\nInteractive session with patients
CATEGORIES:Awareness
LOCATION:Ophthalmology Dept\, University of Port Harcourt Teaching Hospital
 \, Port Harcourt\, Port Harcourt\, Nigeria
GEO:5.014444;6.950278000000026
X-APPLE-STRUCTURED-LOCATION;VALUE=URI;X-ADDRESS=Port Harcourt\, Port Harcou
 rt\, Nigeria;X-APPLE-RADIUS=100;X-TITLE=Ophthalmology Dept\, University of
  Port Harcourt Teaching Hospital:geo:5.014444,6.950278000000026
END:VEVENT
BEGIN:VTIMEZONE
TZID:Europe/Amsterdam
X-LIC-LOCATION:Europe/Amsterdam
BEGIN:STANDARD
DTSTART:20181028T020000
TZOFFSETFROM:+0200
TZOFFSETTO:+0100
TZNAME:CET
END:STANDARD
END:VTIMEZONE
END:VCALENDAR