BEGIN:VCALENDAR
VERSION:2.0
PRODID:-//wp-events-plugin.com//7.2.3.1//EN
TZID:Europe/Amsterdam
X-WR-TIMEZONE:Europe/Amsterdam
BEGIN:VEVENT
UID:2352@worldglaucomaweek.org
DTSTART;TZID=Europe/Amsterdam:20190306T000000
DTEND;TZID=Europe/Amsterdam:20190329T010000
DTSTAMP:20190219T122608Z
URL:https://www.worldglaucomaweek.org/activity/health-education-institute/
SUMMARY:Health Education Institute
DESCRIPTION:
CATEGORIES:Screening event
LOCATION:Bulgaria\, Toshev Eye Clinic\, Stara Zagora\, Bulgaria\, 6000\, St
 ara Zagora\, Bulgaria
GEO:42.4302651;25.62437
X-APPLE-STRUCTURED-LOCATION;VALUE=URI;X-ADDRESS=Toshev Eye Clinic\, Stara Z
 agora\, Bulgaria\, 6000\, Stara Zagora\, Bulgaria;X-APPLE-RADIUS=100;X-TIT
 LE=Bulgaria:geo:42.4302651,25.62437
END:VEVENT
BEGIN:VTIMEZONE
TZID:Europe/Amsterdam
X-LIC-LOCATION:Europe/Amsterdam
BEGIN:STANDARD
DTSTART:20181028T020000
TZOFFSETFROM:+0200
TZOFFSETTO:+0100
TZNAME:CET
END:STANDARD
END:VTIMEZONE
END:VCALENDAR