BEGIN:VCALENDAR
VERSION:2.0
PRODID:-//wp-events-plugin.com//7.2.3.1//EN
TZID:Europe/Amsterdam
X-WR-TIMEZONE:Europe/Amsterdam
BEGIN:VEVENT
UID:2571@worldglaucomaweek.org
DTSTART;TZID=Europe/Amsterdam:20190319T090000
DTEND;TZID=Europe/Amsterdam:20190319T113000
DTSTAMP:20190228T114208Z
URL:https://www.worldglaucomaweek.org/activity/health-education-institute-
 9/
SUMMARY:Health Education Institute
DESCRIPTION:
CATEGORIES:Screening event
LOCATION:Bulgaria\, АГ болница "Селена"\, улица Пещ
 ерско шосе 80\, Plovdiv\, Bulgaria\, 4000\, Plovdiv\, Bulgaria
GEO:42.13468160000001;24.70943060000002
X-APPLE-STRUCTURED-LOCATION;VALUE=URI;X-ADDRESS=АГ болница \"Се
 лена\"\, улица Пещерско шосе 80\, Plovdiv\, Bulgaria\
 , 4000\, Plovdiv\, Bulgaria;X-APPLE-RADIUS=100;X-TITLE=Bulgaria:geo:42.134
 68160000001,24.70943060000002
END:VEVENT
BEGIN:VTIMEZONE
TZID:Europe/Amsterdam
X-LIC-LOCATION:Europe/Amsterdam
BEGIN:STANDARD
DTSTART:20181028T020000
TZOFFSETFROM:+0200
TZOFFSETTO:+0100
TZNAME:CET
END:STANDARD
END:VTIMEZONE
END:VCALENDAR