BEGIN:VCALENDAR
VERSION:2.0
PRODID:-//wp-events-plugin.com//7.2.3.1//EN
TZID:Europe/Amsterdam
X-WR-TIMEZONE:Europe/Amsterdam
BEGIN:VEVENT
UID:2354@worldglaucomaweek.org
DTSTART;TZID=Europe/Amsterdam;VALUE=DATE:20190305
DTEND;TZID=Europe/Amsterdam;VALUE=DATE:20190330
DTSTAMP:20190221T103439Z
URL:https://www.worldglaucomaweek.org/activity/health-education-institute-
 3/
SUMMARY:Patient Organization "Glaucoma"
DESCRIPTION:
CATEGORIES:Public educational
LOCATION:Bulgaria\, ул. „св. Георги Софийски“ 3\, 160
 6 Център\, Sofia\, Sofia\, Bulgaria\, 1000\, Sofia\, Bulgaria
GEO:42.6843986;23.304074600000035
X-APPLE-STRUCTURED-LOCATION;VALUE=URI;X-ADDRESS=ул. „св. Георги
  Софийски“ 3\, 1606 Център\, Sofia\, Sofia\, Bulgaria\, 10
 00\, Sofia\, Bulgaria;X-APPLE-RADIUS=100;X-TITLE=Bulgaria:geo:42.6843986,2
 3.304074600000035
END:VEVENT
BEGIN:VTIMEZONE
TZID:Europe/Amsterdam
X-LIC-LOCATION:Europe/Amsterdam
BEGIN:STANDARD
DTSTART:20181028T020000
TZOFFSETFROM:+0200
TZOFFSETTO:+0100
TZNAME:CET
END:STANDARD
END:VTIMEZONE
END:VCALENDAR