BEGIN:VCALENDAR
VERSION:2.0
PRODID:-//wp-events-plugin.com//7.2.3.1//EN
TZID:Europe/Amsterdam
X-WR-TIMEZONE:Europe/Amsterdam
BEGIN:VEVENT
UID:2852@worldglaucomaweek.org
DTSTART;TZID=Europe/Amsterdam;VALUE=DATE:20190328
DTEND;TZID=Europe/Amsterdam;VALUE=DATE:20190329
DTSTAMP:20190311T091719Z
URL:https://www.worldglaucomaweek.org/activity/health-education-institute-
 10/
SUMMARY:Health Education Institute
DESCRIPTION:
CATEGORIES:Screening event
LOCATION:Bulgaria\, selo Troqnovo\, Troqnovo\, Bulgaria\, 6270\, Stara Zago
 ra\, Bulgaria
GEO:42.1976095;25.953414299999963
X-APPLE-STRUCTURED-LOCATION;VALUE=URI;X-ADDRESS=selo Troqnovo\, Troqnovo\, 
 Bulgaria\, 6270\, Stara Zagora\, Bulgaria;X-APPLE-RADIUS=100;X-TITLE=Bulga
 ria:geo:42.1976095,25.953414299999963
END:VEVENT
BEGIN:VTIMEZONE
TZID:Europe/Amsterdam
X-LIC-LOCATION:Europe/Amsterdam
BEGIN:STANDARD
DTSTART:20181028T020000
TZOFFSETFROM:+0200
TZOFFSETTO:+0100
TZNAME:CET
END:STANDARD
END:VTIMEZONE
END:VCALENDAR