BEGIN:VCALENDAR
VERSION:2.0
PRODID:-//wp-events-plugin.com//7.2.3.1//EN
TZID:Europe/Amsterdam
X-WR-TIMEZONE:Europe/Amsterdam
BEGIN:VEVENT
UID:2950@worldglaucomaweek.org
DTSTART;TZID=Europe/Amsterdam:20190311T081500
DTEND;TZID=Europe/Amsterdam:20190315T091500
DTSTAMP:20190315T095452Z
URL:https://www.worldglaucomaweek.org/activity/health-education-4/
SUMMARY:Health education
DESCRIPTION:
CATEGORIES:Media coverage
LOCATION:GONDAR UNIVERSITY\, OPHTHALMOLOGY DEPARTMENT\, GONDAR\, GONDAR\, E
 thiopia
GEO:12.6030181;37.45213190000004
X-APPLE-STRUCTURED-LOCATION;VALUE=URI;X-ADDRESS=GONDAR\, GONDAR\, Ethiopia;
 X-APPLE-RADIUS=100;X-TITLE=GONDAR UNIVERSITY\, OPHTHALMOLOGY DEPARTMENT:ge
 o:12.6030181,37.45213190000004
END:VEVENT
BEGIN:VTIMEZONE
TZID:Europe/Amsterdam
X-LIC-LOCATION:Europe/Amsterdam
BEGIN:STANDARD
DTSTART:20181028T020000
TZOFFSETFROM:+0200
TZOFFSETTO:+0100
TZNAME:CET
END:STANDARD
END:VTIMEZONE
END:VCALENDAR