BEGIN:VCALENDAR
VERSION:2.0
PRODID:-//wp-events-plugin.com//7.2.3.1//EN
TZID:Europe/Amsterdam
X-WR-TIMEZONE:Europe/Amsterdam
BEGIN:VEVENT
UID:2974@worldglaucomaweek.org
DTSTART;TZID=Europe/Amsterdam:20190317T080000
DTEND;TZID=Europe/Amsterdam:20190317T093000
DTSTAMP:20190318T194557Z
URL:https://www.worldglaucomaweek.org/activity/gurugram-glaucoma-walk-2/
SUMMARY:Gurugram Glaucoma walk
DESCRIPTION:Gurugram glaucoma walk\n400 number of people participated in 
 “Glaucoma Awareness Walk” on 17th march  Sunday morning at 7 am . The
  Haryana Ophthalmology Society and IMA gurugramalong with lion club city g
 urugram celebrated World Glaucoma Week  . This week is celebrated as wor
 ld glaucoma week all over the world. The chief guest were Mr. Umesh Agarwa
 l  MLA\, Gurugram. The guest of honor Mr. Om Wadhana President lions club
  gurugram and Mrs. Seema Pahuja Councillor MCG Gurugram. \n  As a part of
  awareness campaign Haryana ophthalmology society along with IMA gurugram 
 on Sunday  morning 7am  started their walk from sector 4 Rahagiri (INOX 
 mall) gurugram and ended at community center at sector 4. This was a 2 km 
 walk in which there were 200 opthalmologicaldoctors and a large gathering 
 of civil people participated in this awareness walk along with MLA gurugra
 m. \n  In this awareness program there was a glaucoma jingle by Dr. Kapil
  Midha and his group. A kirtan by guaranga institute of vedic education wa
 s also  held there to aware the people about the deadly  disease glaucom
 a. This disease causes a patient to become blind.by this disease the press
 ure in the eye becomes higher which makes optic nerve to get damaged\, by 
 which the patient is not able to see anything.  In india more than 5 cr. 
 people got blind  by this disease. The main symptoms of this disease are 
 pain\, head ache and changing  frequently the number of the eye glass. Th
 is disease is mostly seen in the patients having high blood pressure\, thy
 roid and much more. People must get the best advice and the best treatment
  in the hospitals rather going to an optician.\nMORAL: LETS UNITE AND CURS
 E GLAUCOMA \nOrginiser were: Dr. Inder Mohan Rustagi President Gurugram O
 pthalmological and General Secretary Haryana Opthalmological Society.\nDr.
  Ajay Sharma: President HOS also addressed the gathering \n&nbsp\;\n\n&nb
 sp\;\n\n&nbsp\;\n\n&nbsp\;\n\n&nbsp\;\n\n&nbsp\;\n\n&nbsp\;\n\n&nbsp\;\n\n
 &nbsp\;\n\n&nbsp\;\n\n&nbsp\;\n\n&nbsp\;
CATEGORIES:Media coverage
LOCATION:Gurugram\, Raahgiri \, Gurugram \, India\, 122001\, India\, India
GEO:28.473435;77.01761999999997
X-APPLE-STRUCTURED-LOCATION;VALUE=URI;X-ADDRESS=Raahgiri \, Gurugram \, Ind
 ia\, 122001\, India\, India;X-APPLE-RADIUS=100;X-TITLE=Gurugram:geo:28.473
 435,77.01761999999997
END:VEVENT
BEGIN:VTIMEZONE
TZID:Europe/Amsterdam
X-LIC-LOCATION:Europe/Amsterdam
BEGIN:STANDARD
DTSTART:20181028T020000
TZOFFSETFROM:+0200
TZOFFSETTO:+0100
TZNAME:CET
END:STANDARD
END:VTIMEZONE
END:VCALENDAR