BEGIN:VCALENDAR
VERSION:2.0
PRODID:-//wp-events-plugin.com//7.2.3.1//EN
TZID:Europe/Amsterdam
X-WR-TIMEZONE:Europe/Amsterdam
BEGIN:VEVENT
UID:2204@worldglaucomaweek.org
DTSTART;TZID=Europe/Amsterdam;VALUE=DATE:20180314
DTEND;TZID=Europe/Amsterdam;VALUE=DATE:20180315
DTSTAMP:20180314T123315Z
URL:https://www.worldglaucomaweek.org/activity/green-ribbon-awareness-day/
SUMMARY:Green Ribbon Awareness Day
DESCRIPTION:
CATEGORIES:Awareness
LOCATION:St Joseph's Healthcare Hamilton\, 2757 King Street East\, Hamilton
 \, Ontario\, L8G 5E4\, Canada
GEO:43.2205995;-79.77516320000001
X-APPLE-STRUCTURED-LOCATION;VALUE=URI;X-ADDRESS=2757 King Street East\, Ham
 ilton\, Ontario\, L8G 5E4\, Canada;X-APPLE-RADIUS=100;X-TITLE=St Joseph's 
 Healthcare Hamilton:geo:43.2205995,-79.77516320000001
END:VEVENT
BEGIN:VTIMEZONE
TZID:Europe/Amsterdam
X-LIC-LOCATION:Europe/Amsterdam
BEGIN:STANDARD
DTSTART:20171029T020000
TZOFFSETFROM:+0200
TZOFFSETTO:+0100
TZNAME:CET
END:STANDARD
END:VTIMEZONE
END:VCALENDAR