BEGIN:VCALENDAR
VERSION:2.0
PRODID:-//wp-events-plugin.com//7.2.3.1//EN
TZID:Europe/Amsterdam
X-WR-TIMEZONE:Europe/Amsterdam
BEGIN:VEVENT
UID:1690@worldglaucomaweek.org
DTSTART;TZID=Europe/Amsterdam;VALUE=DATE:20180314
DTEND;TZID=Europe/Amsterdam;VALUE=DATE:20180315
DTSTAMP:20180309T130715Z
URL:https://www.worldglaucomaweek.org/activity/go-green-day/
SUMMARY:Go Green Day
DESCRIPTION:Glaucoma Week at New York Eye and Ear Infirmary of Mount Sinai 
 (NYEE)\n\nNYEE staff will be asked to “Wear Green” on Wednesday\, Marc
 h 14 to show support for Glaucoma Week.\n\nNYEE will  hold a tabling eve
 nt for employees and staff to give out information about glaucoma as well 
 as sweet treats.\n\n&nbsp\;
CATEGORIES:Awareness
LOCATION:New York Eye and Ear Infirmary of Mount Sinai\, 310 East 14th Stre
 et\, New York\, New York\, 10003\, United States
GEO:40.7318919;-73.98458590000001
X-APPLE-STRUCTURED-LOCATION;VALUE=URI;X-ADDRESS=310 East 14th Street\, New 
 York\, New York\, 10003\, United States;X-APPLE-RADIUS=100;X-TITLE=New Yor
 k Eye and Ear Infirmary of Mount Sinai:geo:40.7318919,-73.98458590000001
END:VEVENT
BEGIN:VTIMEZONE
TZID:Europe/Amsterdam
X-LIC-LOCATION:Europe/Amsterdam
BEGIN:STANDARD
DTSTART:20171029T020000
TZOFFSETFROM:+0200
TZOFFSETTO:+0100
TZNAME:CET
END:STANDARD
END:VTIMEZONE
END:VCALENDAR