BEGIN:VCALENDAR
VERSION:2.0
PRODID:-//wp-events-plugin.com//7.2.3.1//EN
TZID:Europe/Amsterdam
X-WR-TIMEZONE:Europe/Amsterdam
BEGIN:VEVENT
UID:2855@worldglaucomaweek.org
DTSTART;TZID=Europe/Amsterdam;VALUE=DATE:20190310
DTEND;TZID=Europe/Amsterdam;VALUE=DATE:20190317
DTSTAMP:20190311T110644Z
URL:https://www.worldglaucomaweek.org/activity/glaukoma-si-pencuri-penglih
 atan/
SUMMARY:Glaukoma Si Pencuri Penglihatan
DESCRIPTION:Tahukah Anda Sahabat JEC\, Glaukoma merupakan penyebab kebutaan
  terbesar kedua di dunia dengan prevalensi kebutaan sebesar 0\,20% . Glauk
 oma terjadi akibat kerusakan saraf mata secara permanen\, dengan tekanan b
 ola mata yang tinggi sebagai salah satu faktor risiko utamanya. Glaukoma "
 Si Pencuri Penglihatan" umumnya menyerang secara perlahan\, dan seringkali
  terlambat disadari dimana kerusakan lanjut yang permanen sudah terjadi. L
 akukanlah pemeriksaan mata secara teratur untuk deteksi dini glaukoma\, te
 rutama apabila Anda memiliki riwayat glaukoma di keluarga. Untuk pendaftar
 an silakan Customer Service JEC di hubungi 021-29221000.
ATTACH;FMTTYPE=image/jpeg:https://www.worldglaucomaweek.org/wp-content/upl
 oads/2019/03/glaukoma11mareta.jpg
CATEGORIES:Public educational
LOCATION:JEC Eye Hospitals and Clinics\, Jl. Terusan Arjuna Utara No. 1\, J
 akarta Barat\, Indonesia — DKI Jakarta\, 11520\, Indonesia
GEO:-6.1895449;106.76143520000005
X-APPLE-STRUCTURED-LOCATION;VALUE=URI;X-ADDRESS=Jl. Terusan Arjuna Utara No
 . 1\, Jakarta Barat\, Indonesia — DKI Jakarta\, 11520\, Indonesia;X-APPL
 E-RADIUS=100;X-TITLE=JEC Eye Hospitals and Clinics:geo:-6.1895449,106.7614
 3520000005
END:VEVENT
BEGIN:VTIMEZONE
TZID:Europe/Amsterdam
X-LIC-LOCATION:Europe/Amsterdam
BEGIN:STANDARD
DTSTART:20181028T020000
TZOFFSETFROM:+0200
TZOFFSETTO:+0100
TZNAME:CET
END:STANDARD
END:VTIMEZONE
END:VCALENDAR