BEGIN:VCALENDAR
VERSION:2.0
PRODID:-//wp-events-plugin.com//7.2.3.1//EN
TZID:Europe/Amsterdam
X-WR-TIMEZONE:Europe/Amsterdam
BEGIN:VEVENT
UID:2063@worldglaucomaweek.org
DTSTART;TZID=Europe/Amsterdam;VALUE=DATE:20180312
DTEND;TZID=Europe/Amsterdam;VALUE=DATE:20180317
DTSTAMP:20180311T103604Z
URL:https://www.worldglaucomaweek.org/activity/glaukom-woche-glaucoma-week
 /
SUMMARY:Glaukom Woche - Glaucoma Week
DESCRIPTION:[gallery ids="6791\,6794\,6790\,6795\,6793\,6108\,6792"]
ATTACH;FMTTYPE=image/jpeg:https://www.worldglaucomaweek.org/wp-content/upl
 oads/2018/03/greven-blick-in-die-praxis-1.jpg
CATEGORIES:Screening event
LOCATION:Augentagesklinik Greven\, Rathauspassage  Winninghoffpättken 8 \,
  Greven\, NRW\, 48268\, Germany
GEO:52.0927685;7.610340800000017
X-APPLE-STRUCTURED-LOCATION;VALUE=URI;X-ADDRESS=Rathauspassage  Winninghoff
 pättken 8 \, Greven\, NRW\, 48268\, Germany;X-APPLE-RADIUS=100;X-TITLE=Au
 gentagesklinik Greven:geo:52.0927685,7.610340800000017
END:VEVENT
BEGIN:VTIMEZONE
TZID:Europe/Amsterdam
X-LIC-LOCATION:Europe/Amsterdam
BEGIN:STANDARD
DTSTART:20171029T020000
TZOFFSETFROM:+0200
TZOFFSETTO:+0100
TZNAME:CET
END:STANDARD
END:VTIMEZONE
END:VCALENDAR