BEGIN:VCALENDAR
VERSION:2.0
PRODID:-//wp-events-plugin.com//7.2.3.1//EN
TZID:Europe/Amsterdam
X-WR-TIMEZONE:Europe/Amsterdam
BEGIN:VEVENT
UID:19221@worldglaucomaweek.org
DTSTART;TZID=Asia/Kolkata:20250311T090000
DTEND;TZID=Asia/Kolkata:20250315T173000
DTSTAMP:20250311T122255Z
URL:https://www.worldglaucomaweek.org/activity/glaucome-simulator/
SUMMARY:Glaucome Simulator
DESCRIPTION:As we observe World Glaucoma Week (March 9–15\, 2025)\, Akrit
 i Ophthalmic Private Limited reaffirms its commitment to combating the "si
 lent thief of sight." Glaucoma\, a leading cause of irreversible blindness
 \, often progresses without symptoms\, making early detection and awarenes
 s critical.\nAt Akriti Ophthalmic\, we have developed innovative products 
 and initiatives to promote glaucoma awareness and early diagnosis:\nEducat
 ional Kits: Designed to inform communities about glaucoma\, its risks\, an
 d the importance of regular eye check-ups.\nScreening Tools: Portable and 
 affordable devices to facilitate early detection\, especially in underserv
 ed areas.\nAwareness Campaigns: Collaborating with healthcare providers to
  organize workshops\, camps\, and educational drives.\nThis year’s theme
 \, “Uniting for a Glaucoma-Free World\,” inspires us to work together 
 to ensure no one loses their vision to this preventable condition. We enco
 urage everyone to prioritize their eye health by scheduling regular check-
 ups and spreading the word about glaucoma.\nTogether\, let’s make a diff
 erence and create a future where sight is preserved for all\nwww.akriti.co
 .in
CATEGORIES:Awareness
LOCATION:Akriti ophthalmic Pvt Ltd\, M34 Medical Device Park \, Hyderabad\,
  Telagana \, 502319\, India\, India
X-APPLE-STRUCTURED-LOCATION;VALUE=URI;X-ADDRESS=M34 Medical Device Park \, 
 Hyderabad\, Telagana \, 502319\, India\, India;X-APPLE-RADIUS=100;X-TITLE=
 Akriti ophthalmic Pvt Ltd:geo:0,0
END:VEVENT
BEGIN:VTIMEZONE
TZID:Asia/Kolkata
X-LIC-LOCATION:Asia/Kolkata
BEGIN:STANDARD
DTSTART:20240311T090000
TZOFFSETFROM:+0530
TZOFFSETTO:+0530
TZNAME:IST
END:STANDARD
END:VTIMEZONE
END:VCALENDAR