BEGIN:VCALENDAR
VERSION:2.0
PRODID:-//wp-events-plugin.com//7.2.3.1//EN
TZID:Europe/Amsterdam
X-WR-TIMEZONE:Europe/Amsterdam
BEGIN:VEVENT
UID:2073@worldglaucomaweek.org
DTSTART;TZID=Europe/Amsterdam;VALUE=DATE:20180311
DTEND;TZID=Europe/Amsterdam;VALUE=DATE:20180317
DTSTAMP:20190307T184229Z
URL:https://www.worldglaucomaweek.org/activity/glaucoma/
SUMMARY:Glaucoma
DESCRIPTION:
CATEGORIES:Awareness
LOCATION:Regional Hospital\, Bryansk\, Bryansk\, Russia
GEO:53.2635306;34.41611
X-APPLE-STRUCTURED-LOCATION;VALUE=URI;X-ADDRESS=Bryansk\, Bryansk\, Russia;
 X-APPLE-RADIUS=100;X-TITLE=Regional Hospital:geo:53.2635306,34.41611
END:VEVENT
BEGIN:VTIMEZONE
TZID:Europe/Amsterdam
X-LIC-LOCATION:Europe/Amsterdam
BEGIN:STANDARD
DTSTART:20171029T020000
TZOFFSETFROM:+0200
TZOFFSETTO:+0100
TZNAME:CET
END:STANDARD
END:VTIMEZONE
END:VCALENDAR