BEGIN:VCALENDAR
VERSION:2.0
PRODID:-//wp-events-plugin.com//7.2.3.1//EN
TZID:Europe/Amsterdam
X-WR-TIMEZONE:Europe/Amsterdam
BEGIN:VEVENT
UID:2966@worldglaucomaweek.org
DTSTART;TZID=Europe/Amsterdam:20190314T100000
DTEND;TZID=Europe/Amsterdam:20190315T100000
DTSTAMP:20190316T215132Z
URL:https://www.worldglaucomaweek.org/activity/glaucoma-workshop/
SUMMARY:Glaucoma workshop
DESCRIPTION:This 2-day glaucoma workshop includes activities directed to th
 e young ophthalmologists wishing to be glaucoma specialists. The program 
  includes:\n\nLectures : Glaucoma diagnosis/ types/ management\n\nWorksho
 ps: visual field/OCT/ Microsurgery\n\nWetlab: trabeculectomy/ releasable s
 utures/ Deep Sclerectomy.\n\n9 candidates came from all over Egypt.\n\nthe
  course aimed at bridging the gap between the knowledge and practice to he
 lp young ophthalmologists to face the glaucoma challenges.
ATTACH;FMTTYPE=image/jpeg:https://www.worldglaucomaweek.org/wp-content/upl
 oads/2019/03/Screen-Shot-2019-03-16-at-11.50.35-PM.png
CATEGORIES:Awareness
LOCATION:Giza Specialized Eye Center\, 8 Morad street\, Giza\, Giza \, Giza
 \, 12211\, Giza\, Egypt
GEO:30.01657269999999;31.212991399999964
X-APPLE-STRUCTURED-LOCATION;VALUE=URI;X-ADDRESS=8 Morad street\, Giza\, Giz
 a \, Giza\, 12211\, Giza\, Egypt;X-APPLE-RADIUS=100;X-TITLE=Giza Specializ
 ed Eye Center:geo:30.01657269999999,31.212991399999964
END:VEVENT
BEGIN:VTIMEZONE
TZID:Europe/Amsterdam
X-LIC-LOCATION:Europe/Amsterdam
BEGIN:STANDARD
DTSTART:20181028T020000
TZOFFSETFROM:+0200
TZOFFSETTO:+0100
TZNAME:CET
END:STANDARD
END:VTIMEZONE
END:VCALENDAR