BEGIN:VCALENDAR
VERSION:2.0
PRODID:-//wp-events-plugin.com//7.2.3.1//EN
TZID:Europe/Amsterdam
X-WR-TIMEZONE:Europe/Amsterdam
BEGIN:VEVENT
UID:2197@worldglaucomaweek.org
DTSTART;TZID=Europe/Amsterdam:20180318T080000
DTEND;TZID=Europe/Amsterdam:20180318T120000
DTSTAMP:20180314T054820Z
URL:https://www.worldglaucomaweek.org/activity/glaucoma-week-annual-cme-se
 ssion/
SUMMARY:Glaucoma Week Annual CME Session
DESCRIPTION:Glaucoma Week CME Session for Health Care Professionals\n\nA Gl
 aucoma Continuing Medical Education (CME) Session for Health Care Professi
 onals will be held on Sunday March 18th 2018 from 8:00 hrs to 12:00hrs at 
 the Herdmanston Lodge\, Queenstown. These sessions will concentrate on edu
 cating medical practitioners\, optometrists\, nurses and other eye care pr
 ofessionals on Glaucoma diagnosis and management. This event is sponsored 
 by Medi Pharma Inc.
ATTACH;FMTTYPE=image/jpeg:https://www.worldglaucomaweek.org/wp-content/upl
 oads/2018/03/CME.jpg
CATEGORIES:Public educational
LOCATION:Herdmanston Lodge\, Lamaha Street\, Georgetown\, Guyana\, Demerara
 \, Guyana
GEO:6.815342913284813;-58.1477373721832
X-APPLE-STRUCTURED-LOCATION;VALUE=URI;X-ADDRESS=Lamaha Street\, Georgetown\
 , Guyana\, Demerara\, Guyana;X-APPLE-RADIUS=100;X-TITLE=Herdmanston Lodge:
 geo:6.815342913284813,-58.1477373721832
END:VEVENT
BEGIN:VTIMEZONE
TZID:Europe/Amsterdam
X-LIC-LOCATION:Europe/Amsterdam
BEGIN:STANDARD
DTSTART:20171029T020000
TZOFFSETFROM:+0200
TZOFFSETTO:+0100
TZNAME:CET
END:STANDARD
END:VTIMEZONE
END:VCALENDAR