BEGIN:VCALENDAR
VERSION:2.0
PRODID:-//wp-events-plugin.com//7.2.3.1//EN
TZID:Europe/Amsterdam
X-WR-TIMEZONE:Europe/Amsterdam
BEGIN:VEVENT
UID:2829@worldglaucomaweek.org
DTSTART;TZID=Europe/Amsterdam:20190314T000000
DTEND;TZID=Europe/Amsterdam:20190314T160000
DTSTAMP:20190310T010602Z
URL:https://www.worldglaucomaweek.org/activity/glaucoma-week-8/
SUMMARY:Glaucoma week
DESCRIPTION:
CATEGORIES:Media coverage
LOCATION:Glaucoma week\, Krasnoyarsk\, Krasnoyarsk\, Krasnoyarsk region\, R
 ussia
GEO:56.01528339999999;92.8932476
X-APPLE-STRUCTURED-LOCATION;VALUE=URI;X-ADDRESS=Krasnoyarsk\, Krasnoyarsk\,
  Krasnoyarsk region\, Russia;X-APPLE-RADIUS=100;X-TITLE=Glaucoma week:geo:
 56.01528339999999,92.8932476
END:VEVENT
BEGIN:VTIMEZONE
TZID:Europe/Amsterdam
X-LIC-LOCATION:Europe/Amsterdam
BEGIN:STANDARD
DTSTART:20181028T020000
TZOFFSETFROM:+0200
TZOFFSETTO:+0100
TZNAME:CET
END:STANDARD
END:VTIMEZONE
END:VCALENDAR