BEGIN:VCALENDAR
VERSION:2.0
PRODID:-//wp-events-plugin.com//7.2.3.1//EN
TZID:Europe/Amsterdam
X-WR-TIMEZONE:Europe/Amsterdam
BEGIN:VEVENT
UID:2349@worldglaucomaweek.org
DTSTART;TZID=Europe/Amsterdam:20190311T090000
DTEND;TZID=Europe/Amsterdam:20190314T160000
DTSTAMP:20190215T131334Z
URL:https://www.worldglaucomaweek.org/activity/glaucoma-week-7/
SUMMARY:Glaucoma Week
DESCRIPTION:
CATEGORIES:Public educational
LOCATION:University College Hospital\, Ibadan\, University College Hospital
  \, Ibadan\, Oyo\, 200222\, Western Nigeria \, Nigeria
GEO:7.3569417;3.874336699999958
X-APPLE-STRUCTURED-LOCATION;VALUE=URI;X-ADDRESS=University College Hospital
  \, Ibadan\, Oyo\, 200222\, Western Nigeria \, Nigeria;X-APPLE-RADIUS=100;
 X-TITLE=University College Hospital\, Ibadan:geo:7.3569417,3.8743366999999
 58
END:VEVENT
BEGIN:VTIMEZONE
TZID:Europe/Amsterdam
X-LIC-LOCATION:Europe/Amsterdam
BEGIN:STANDARD
DTSTART:20181028T020000
TZOFFSETFROM:+0200
TZOFFSETTO:+0100
TZNAME:CET
END:STANDARD
END:VTIMEZONE
END:VCALENDAR