BEGIN:VCALENDAR
VERSION:2.0
PRODID:-//wp-events-plugin.com//7.2.3.1//EN
TZID:Europe/Amsterdam
X-WR-TIMEZONE:Europe/Amsterdam
BEGIN:VEVENT
UID:2313@worldglaucomaweek.org
DTSTART;TZID=Europe/Amsterdam;VALUE=DATE:20180312
DTEND;TZID=Europe/Amsterdam;VALUE=DATE:20180317
DTSTAMP:20180328T103010Z
URL:https://www.worldglaucomaweek.org/activity/glaucoma-week-6/
SUMMARY:Glaucoma Week
DESCRIPTION:Radio Broadcast:\n\nInterview and call in Monday 12/03/2018\n\n
 Daily broadcast of different aspects of glaucoma Tuesday Wednesday Thursda
 y Friday (13th 14th 15th 16th March 2018)
CATEGORIES:Media coverage
LOCATION:4CRB Radio\, 8 Stevenson Ct\, Burleigh Heads\, Gold Coast\, Queens
 land\, 4220\, Australia
GEO:-28.1036995;153.42869819999999
X-APPLE-STRUCTURED-LOCATION;VALUE=URI;X-ADDRESS=8 Stevenson Ct\, Burleigh H
 eads\, Gold Coast\, Queensland\, 4220\, Australia;X-APPLE-RADIUS=100;X-TIT
 LE=4CRB Radio:geo:-28.1036995,153.42869819999999
END:VEVENT
BEGIN:VTIMEZONE
TZID:Europe/Amsterdam
X-LIC-LOCATION:Europe/Amsterdam
BEGIN:STANDARD
DTSTART:20171029T020000
TZOFFSETFROM:+0200
TZOFFSETTO:+0100
TZNAME:CET
END:STANDARD
END:VTIMEZONE
END:VCALENDAR