BEGIN:VCALENDAR
VERSION:2.0
PRODID:-//wp-events-plugin.com//7.2.3.1//EN
TZID:Europe/Amsterdam
X-WR-TIMEZONE:Europe/Amsterdam
BEGIN:VEVENT
UID:2594@worldglaucomaweek.org
DTSTART;TZID=Europe/Amsterdam:20190310T160000
DTEND;TZID=Europe/Amsterdam:20190310T170000
DTSTAMP:20190303T171633Z
URL:https://www.worldglaucomaweek.org/activity/glaucoma-walkathon-3/
SUMMARY:Glaucoma Walkathon
DESCRIPTION:
CATEGORIES:Media coverage
LOCATION:Amrita Institute of Medical Sciences\, Cochin\, Kerala\, India\, E
 dapally\, Cochin\, Kerala\, 682041\, Ernakulam\, Cochin\, India
GEO:10.035179;76.2928028
X-APPLE-STRUCTURED-LOCATION;VALUE=URI;X-ADDRESS=Edapally\, Cochin\, Kerala\
 , 682041\, Ernakulam\, Cochin\, India;X-APPLE-RADIUS=100;X-TITLE=Amrita In
 stitute of Medical Sciences\, Cochin\, Kerala\, India:geo:10.035179,76.292
 8028
END:VEVENT
BEGIN:VTIMEZONE
TZID:Europe/Amsterdam
X-LIC-LOCATION:Europe/Amsterdam
BEGIN:STANDARD
DTSTART:20181028T020000
TZOFFSETFROM:+0200
TZOFFSETTO:+0100
TZNAME:CET
END:STANDARD
END:VTIMEZONE
END:VCALENDAR