BEGIN:VCALENDAR
VERSION:2.0
PRODID:-//wp-events-plugin.com//7.2.3.1//EN
TZID:Europe/Amsterdam
X-WR-TIMEZONE:Europe/Amsterdam
BEGIN:VEVENT
UID:2000@worldglaucomaweek.org
DTSTART;TZID=Europe/Amsterdam:20180311T080000
DTEND;TZID=Europe/Amsterdam:20180311T090000
DTSTAMP:20180309T121212Z
URL:https://www.worldglaucomaweek.org/activity/glaucoma-walk-2/
SUMMARY:Glaucoma Walk
DESCRIPTION:
CATEGORIES:Media coverage
LOCATION:Rock Garden\, Rock Garden Chandigarh\, Chandigarh\, India
GEO:30.752535;76.81010379999998
X-APPLE-STRUCTURED-LOCATION;VALUE=URI;X-ADDRESS=Rock Garden Chandigarh\, Ch
 andigarh\, India;X-APPLE-RADIUS=100;X-TITLE=Rock Garden:geo:30.752535,76.8
 1010379999998
END:VEVENT
BEGIN:VTIMEZONE
TZID:Europe/Amsterdam
X-LIC-LOCATION:Europe/Amsterdam
BEGIN:STANDARD
DTSTART:20171029T020000
TZOFFSETFROM:+0200
TZOFFSETTO:+0100
TZNAME:CET
END:STANDARD
END:VTIMEZONE
END:VCALENDAR