BEGIN:VCALENDAR
VERSION:2.0
PRODID:-//wp-events-plugin.com//7.2.3.1//EN
TZID:Europe/Amsterdam
X-WR-TIMEZONE:Europe/Amsterdam
BEGIN:VEVENT
UID:1767@worldglaucomaweek.org
DTSTART;TZID=Europe/Amsterdam:20180315T183000
DTEND;TZID=Europe/Amsterdam:20180315T193000
DTSTAMP:20180226T143022Z
URL:https://www.worldglaucomaweek.org/activity/glaucoma-the-thief-of-sight
 /
SUMMARY:Glaucoma: The Thief of Sight
DESCRIPTION:Awareness conference about Glaucoma
CATEGORIES:Public educational
LOCATION:École Supérieure des Affaires\, Esa business school \, Beirut\, 
 Lebanon
GEO:33.8986302;35.48923220000006
X-APPLE-STRUCTURED-LOCATION;VALUE=URI;X-ADDRESS=Esa business school \, Beir
 ut\, Lebanon;X-APPLE-RADIUS=100;X-TITLE=École Supérieure des Affaires:ge
 o:33.8986302,35.48923220000006
END:VEVENT
BEGIN:VTIMEZONE
TZID:Europe/Amsterdam
X-LIC-LOCATION:Europe/Amsterdam
BEGIN:STANDARD
DTSTART:20171029T020000
TZOFFSETFROM:+0200
TZOFFSETTO:+0100
TZNAME:CET
END:STANDARD
END:VTIMEZONE
END:VCALENDAR