BEGIN:VCALENDAR
VERSION:2.0
PRODID:-//wp-events-plugin.com//7.2.3.1//EN
TZID:Europe/Amsterdam
X-WR-TIMEZONE:Europe/Amsterdam
BEGIN:VEVENT
UID:2001@worldglaucomaweek.org
DTSTART;TZID=Europe/Amsterdam:20180315T143000
DTEND;TZID=Europe/Amsterdam:20180315T153000
DTSTAMP:20180309T121453Z
URL:https://www.worldglaucomaweek.org/activity/glaucoma-seminar-for-public
 /
SUMMARY:Glaucoma Seminar for Public
DESCRIPTION:
CATEGORIES:Media coverage
LOCATION:Advanced Eye Center\, PGIMER\, Sector 12\, Chandigarh\, Chandigarh
 \, India
GEO:30.7608306;76.77584520000005
X-APPLE-STRUCTURED-LOCATION;VALUE=URI;X-ADDRESS=PGIMER\, Sector 12\, Chandi
 garh\, Chandigarh\, India;X-APPLE-RADIUS=100;X-TITLE=Advanced Eye Center:g
 eo:30.7608306,76.77584520000005
END:VEVENT
BEGIN:VTIMEZONE
TZID:Europe/Amsterdam
X-LIC-LOCATION:Europe/Amsterdam
BEGIN:STANDARD
DTSTART:20171029T020000
TZOFFSETFROM:+0200
TZOFFSETTO:+0100
TZNAME:CET
END:STANDARD
END:VTIMEZONE
END:VCALENDAR