BEGIN:VCALENDAR
VERSION:2.0
PRODID:-//wp-events-plugin.com//7.2.3.1//EN
TZID:Europe/Amsterdam
X-WR-TIMEZONE:Europe/Amsterdam
BEGIN:VEVENT
UID:2223@worldglaucomaweek.org
DTSTART;TZID=Europe/Amsterdam:20180328T130000
DTEND;TZID=Europe/Amsterdam:20180328T150000
DTSTAMP:20180315T091501Z
URL:https://www.worldglaucomaweek.org/activity/glaucoma-seminar-for-public
 -2/
SUMMARY:Glaucoma Seminar for Public
DESCRIPTION:Glaucoma and your family : Save Your Sight\, See The Future Tog
 ether\n\n&nbsp\;
ATTACH;FMTTYPE=image/jpeg:https://www.worldglaucomaweek.org/wp-content/upl
 oads/2018/03/POSTER-INSTAGRAM-seminar-glaukoma-a.jpg
CATEGORIES:Public educational
LOCATION:JEC @ Kedoya\, Jl. Terusan Arjuna Utara No.1\, Kedoya\, RT.7/RW.3\
 , West jakarta\, Jakarta\, 11520\, Indonesia
GEO:-6.1895416;106.76139760000001
X-APPLE-STRUCTURED-LOCATION;VALUE=URI;X-ADDRESS=Jl. Terusan Arjuna Utara No
 .1\, Kedoya\, RT.7/RW.3\, West jakarta\, Jakarta\, 11520\, Indonesia;X-APP
 LE-RADIUS=100;X-TITLE=JEC @ Kedoya:geo:-6.1895416,106.76139760000001
END:VEVENT
BEGIN:VTIMEZONE
TZID:Europe/Amsterdam
X-LIC-LOCATION:Europe/Amsterdam
BEGIN:DAYLIGHT
DTSTART:20180325T030000
TZOFFSETFROM:+0100
TZOFFSETTO:+0200
TZNAME:CEST
END:DAYLIGHT
END:VTIMEZONE
END:VCALENDAR