BEGIN:VCALENDAR
VERSION:2.0
PRODID:-//wp-events-plugin.com//7.2.3.1//EN
TZID:Europe/Amsterdam
X-WR-TIMEZONE:Europe/Amsterdam
BEGIN:VEVENT
UID:2710@worldglaucomaweek.org
DTSTART;TZID=Europe/Amsterdam:20190311T080000
DTEND;TZID=Europe/Amsterdam:20190315T170000
DTSTAMP:20220308T043536Z
URL:https://www.worldglaucomaweek.org/activity/glaucoma-screening-of-patie
 nts-and-hospital-employees/
SUMMARY:Glaucoma Screening of Patients and Hospital Employees
DESCRIPTION:The Department of Ophthalmology of the Ilocos Training and Regi
 onal Medical Center will be holding glaucoma screening sessions for both p
 atients and hospital employees. All interested in being screened will unde
 rgo free OCT of the ONH testing\, and those with suspicious findings will 
 undergo further ophthalmologic examination and free perimetry testing.
CATEGORIES:Screening event
LOCATION:Ilocos Training and Regional Medical Center\, Parian\, San Fernand
 o City\, SELECT STATE\, 2500\, La Union\, Philippines
GEO:16.5951156;120.3131717
X-APPLE-STRUCTURED-LOCATION;VALUE=URI;X-ADDRESS=Parian\, San Fernando City\
 , SELECT STATE\, 2500\, La Union\, Philippines;X-APPLE-RADIUS=100;X-TITLE=
 Ilocos Training and Regional Medical Center:geo:16.5951156,120.3131717
END:VEVENT
BEGIN:VTIMEZONE
TZID:Europe/Amsterdam
X-LIC-LOCATION:Europe/Amsterdam
BEGIN:STANDARD
DTSTART:20181028T020000
TZOFFSETFROM:+0200
TZOFFSETTO:+0100
TZNAME:CET
END:STANDARD
END:VTIMEZONE
END:VCALENDAR