BEGIN:VCALENDAR
VERSION:2.0
PRODID:-//wp-events-plugin.com//7.2.3.1//EN
TZID:Europe/Amsterdam
X-WR-TIMEZONE:Europe/Amsterdam
BEGIN:VEVENT
UID:2242@worldglaucomaweek.org
DTSTART;TZID=Europe/Amsterdam:20180311T084500
DTEND;TZID=Europe/Amsterdam:20180311T120000
DTSTAMP:20180316T111602Z
URL:https://www.worldglaucomaweek.org/activity/glaucoma-screening-for-ment
 al-hospital-inmates/
SUMMARY:Glaucoma Screening for Mental Hospital inmates
DESCRIPTION:WORLD GLAUCOMA WEEK 2018. Over the last several years through g
 laucoma walks\, dives and seminars we have raised awareness about this bli
 nding disease. This year Swasthi Foundation asked the question what about 
 the people who cannot be made aware? That led onto this project where Swas
 thi Foundation decided to look into the eye care of all 500 inmates of Men
 tal Hospital. The project was launched by Sri. Loknath Behra IPS\, DGP &am
 p\; Kerala Police Chief. Over the period of one month all inmates of menta
 l hospital will undergo comprehensive eye checkup including fundoscopy and
  eye pressure measurement. Many thanks to Dr. Kiran Kumar\, Dr. Martin and
  Dr. Sagar from Mental Hospital who arranged the program.\n\nDr. Devin Pra
 bhakar and Dr. Kavitha Devin from Divya Prabha Eye Hospital screened all 5
 00 inmates of Mental Hospital for glaucoma.\n\n&nbsp\;\n\n#Glaucoma\, #WGW
 \, #WGW2018\, #WorldGlaucomaWeek\, #GlaucomaWeek\, #worldglaucomaweek2018
CATEGORIES:Screening event
LOCATION:Mental Hospital\, Oolanpara \, Trivandrum\, Kerala\, India
GEO:8.527521000000002;76.96862669999996
X-APPLE-STRUCTURED-LOCATION;VALUE=URI;X-ADDRESS=Oolanpara \, Trivandrum\, K
 erala\, India;X-APPLE-RADIUS=100;X-TITLE=Mental Hospital:geo:8.52752100000
 0002,76.96862669999996
END:VEVENT
BEGIN:VTIMEZONE
TZID:Europe/Amsterdam
X-LIC-LOCATION:Europe/Amsterdam
BEGIN:STANDARD
DTSTART:20171029T020000
TZOFFSETFROM:+0200
TZOFFSETTO:+0100
TZNAME:CET
END:STANDARD
END:VTIMEZONE
END:VCALENDAR