BEGIN:VCALENDAR
VERSION:2.0
PRODID:-//wp-events-plugin.com//7.2.3.1//EN
TZID:Europe/Amsterdam
X-WR-TIMEZONE:Europe/Amsterdam
BEGIN:VEVENT
UID:2057@worldglaucomaweek.org
DTSTART;TZID=Europe/Amsterdam:20180315T080000
DTEND;TZID=Europe/Amsterdam:20180315T140000
DTSTAMP:20180311T075900Z
URL:https://www.worldglaucomaweek.org/activity/glaucoma-screening-event-in
 -qatar-health-centers/
SUMMARY:Glaucoma Screening Event In Qatar Health Centers
DESCRIPTION:glaucoma screening to all health center visitors including pati
 ents\, parents and health center staff.\n\nscreening including vision acui
 ty test with IOP using air buff tonometer.\n\n&nbsp\;
ATTACH;FMTTYPE=image/jpeg:https://www.worldglaucomaweek.org/wp-content/upl
 oads/2018/03/Mzoughi-WGW-2018.jpg
CATEGORIES:Screening event
LOCATION:RAWDAT ALKHAIL HC\, DOHA\, QATAR\, QATAR\, Qatar
GEO:25.2854473;51.53103979999992
X-APPLE-STRUCTURED-LOCATION;VALUE=URI;X-ADDRESS=DOHA\, QATAR\, QATAR\, Qata
 r;X-APPLE-RADIUS=100;X-TITLE=RAWDAT ALKHAIL HC:geo:25.2854473,51.531039799
 99992
END:VEVENT
BEGIN:VTIMEZONE
TZID:Europe/Amsterdam
X-LIC-LOCATION:Europe/Amsterdam
BEGIN:STANDARD
DTSTART:20171029T020000
TZOFFSETFROM:+0200
TZOFFSETTO:+0100
TZNAME:CET
END:STANDARD
END:VTIMEZONE
END:VCALENDAR