BEGIN:VCALENDAR
VERSION:2.0
PRODID:-//wp-events-plugin.com//7.2.3.1//EN
TZID:Europe/Amsterdam
X-WR-TIMEZONE:Europe/Amsterdam
BEGIN:VEVENT
UID:2984@worldglaucomaweek.org
DTSTART;TZID=Europe/Amsterdam:20190317T073000
DTEND;TZID=Europe/Amsterdam:20190317T100000
DTSTAMP:20190323T113635Z
URL:https://www.worldglaucomaweek.org/activity/glaucoma-screening-event-de
 teksi-dini-glaukoma/
SUMMARY:Glaucoma Screening Event "Deteksi Dini Glaukoma"
DESCRIPTION:Ophthalmology Department Airlangga University - Soetomo Teachin
 g Hospital featuring East Java branch of Indonesian Ophthalmologists Assoc
 iation organized Glaucoma Screening Event along with Dekan Cup Opening Cer
 emony on March 17\, 2019.
ATTACH;FMTTYPE=image/jpeg:https://www.worldglaucomaweek.org/wp-content/upl
 oads/2019/03/imgonline-com-ua-CompressToSize-PO8mHANqMgIsEa.jpg
CATEGORIES:Screening event
LOCATION:Faculty of Medicine Airlangga University\, Jl. Mayjen Prof. Dr. Mo
 estopo No.47\, Pacar Kembang\, Tambaksari\, Surabaya\, East Java\, 60132\,
  East Java\, Indonesia
GEO:-7.2656232;112.75977460000001
X-APPLE-STRUCTURED-LOCATION;VALUE=URI;X-ADDRESS=Jl. Mayjen Prof. Dr. Moesto
 po No.47\, Pacar Kembang\, Tambaksari\, Surabaya\, East Java\, 60132\, Eas
 t Java\, Indonesia;X-APPLE-RADIUS=100;X-TITLE=Faculty of Medicine Airlangg
 a University:geo:-7.2656232,112.75977460000001
END:VEVENT
BEGIN:VTIMEZONE
TZID:Europe/Amsterdam
X-LIC-LOCATION:Europe/Amsterdam
BEGIN:STANDARD
DTSTART:20181028T020000
TZOFFSETFROM:+0200
TZOFFSETTO:+0100
TZNAME:CET
END:STANDARD
END:VTIMEZONE
END:VCALENDAR