BEGIN:VCALENDAR
VERSION:2.0
PRODID:-//wp-events-plugin.com//7.2.3.1//EN
TZID:Europe/Amsterdam
X-WR-TIMEZONE:Europe/Amsterdam
BEGIN:VEVENT
UID:2613@worldglaucomaweek.org
DTSTART;TZID=Europe/Amsterdam:20190312T070000
DTEND;TZID=Europe/Amsterdam:20190319T130000
DTSTAMP:20190305T084833Z
URL:https://www.worldglaucomaweek.org/activity/glaucoma-screening-event-7/
SUMMARY:Glaucoma Screening Event
DESCRIPTION:Glaucoma screenings and conducting public awareness sessions to
  highlight Glaucoma\, being held this year from 12 to 19 March.\n\nLocatio
 n: Ihsan - PHCC - QRC\n\n&nbsp\;
CATEGORIES:Media coverage
LOCATION:Doha\, Doha\, Doha\, Middle East\, Qatar
GEO:25.2854473;51.53103979999992
X-APPLE-STRUCTURED-LOCATION;VALUE=URI;X-ADDRESS=Doha\, Doha\, Middle East\,
  Qatar;X-APPLE-RADIUS=100;X-TITLE=Doha:geo:25.2854473,51.53103979999992
END:VEVENT
BEGIN:VTIMEZONE
TZID:Europe/Amsterdam
X-LIC-LOCATION:Europe/Amsterdam
BEGIN:STANDARD
DTSTART:20181028T020000
TZOFFSETFROM:+0200
TZOFFSETTO:+0100
TZNAME:CET
END:STANDARD
END:VTIMEZONE
END:VCALENDAR