BEGIN:VCALENDAR
VERSION:2.0
PRODID:-//wp-events-plugin.com//7.2.3.1//EN
TZID:Europe/Amsterdam
X-WR-TIMEZONE:Europe/Amsterdam
BEGIN:VEVENT
UID:2612@worldglaucomaweek.org
DTSTART;TZID=Europe/Amsterdam:20190311T070000
DTEND;TZID=Europe/Amsterdam:20190311T130000
DTSTAMP:20190305T084212Z
URL:https://www.worldglaucomaweek.org/activity/glaucoma-screening-event-6/
SUMMARY:Glaucoma Screening Event
DESCRIPTION:Ministry of Public Health holds free glaucoma screenings and co
 nducts public awareness sessions to highlight World Glaucoma Week\, being 
 held this year from 10 to 19 March 2019 in many public and governmental lo
 cation.
CATEGORIES:Screening event
LOCATION:Doha School\, Ministry of Education and Higher Education\, Doha \,
  Qatar
GEO:25.263819;51.542210899999986
X-APPLE-STRUCTURED-LOCATION;VALUE=URI;X-ADDRESS=Ministry of Education and H
 igher Education\, Doha \, Qatar;X-APPLE-RADIUS=100;X-TITLE=Doha School:geo
 :25.263819,51.542210899999986
END:VEVENT
BEGIN:VTIMEZONE
TZID:Europe/Amsterdam
X-LIC-LOCATION:Europe/Amsterdam
BEGIN:STANDARD
DTSTART:20181028T020000
TZOFFSETFROM:+0200
TZOFFSETTO:+0100
TZNAME:CET
END:STANDARD
END:VTIMEZONE
END:VCALENDAR