BEGIN:VCALENDAR
VERSION:2.0
PRODID:-//wp-events-plugin.com//7.2.3.1//EN
TZID:Europe/Amsterdam
X-WR-TIMEZONE:Europe/Amsterdam
BEGIN:VEVENT
UID:2607@worldglaucomaweek.org
DTSTART;TZID=Europe/Amsterdam:20190311T080000
DTEND;TZID=Europe/Amsterdam:20190315T170000
DTSTAMP:20190304T235308Z
URL:https://www.worldglaucomaweek.org/activity/glaucoma-screening-event-5/
SUMMARY:Glaucoma Screening Event
DESCRIPTION:Glaucoma screening\, health talks\, posters and notices on glau
 coma at PCEA Kikuyu Hospital - Eye Unit
CATEGORIES:Screening event
END:VEVENT
BEGIN:VTIMEZONE
TZID:Europe/Amsterdam
X-LIC-LOCATION:Europe/Amsterdam
BEGIN:STANDARD
DTSTART:20181028T020000
TZOFFSETFROM:+0200
TZOFFSETTO:+0100
TZNAME:CET
END:STANDARD
END:VTIMEZONE
END:VCALENDAR