BEGIN:VCALENDAR
VERSION:2.0
PRODID:-//wp-events-plugin.com//7.2.3.1//EN
TZID:Europe/Amsterdam
X-WR-TIMEZONE:Europe/Amsterdam
BEGIN:VEVENT
UID:2056@worldglaucomaweek.org
DTSTART;TZID=Europe/Amsterdam:20180314T080000
DTEND;TZID=Europe/Amsterdam:20180315T140000
DTSTAMP:20180311T080152Z
URL:https://www.worldglaucomaweek.org/activity/glaucoma-screening-event-4/
SUMMARY:Glaucoma Screening Event In Qatar-Kahramaa
DESCRIPTION:
ATTACH;FMTTYPE=image/jpeg:https://www.worldglaucomaweek.org/wp-content/upl
 oads/2018/03/INVITATIONS.english.jpg
CATEGORIES:Screening event
LOCATION:Doha\, Doha\, Doha\, Middle East\, Qatar
GEO:25.2854473;51.53103979999992
X-APPLE-STRUCTURED-LOCATION;VALUE=URI;X-ADDRESS=Doha\, Doha\, Middle East\,
  Qatar;X-APPLE-RADIUS=100;X-TITLE=Doha:geo:25.2854473,51.53103979999992
END:VEVENT
BEGIN:VTIMEZONE
TZID:Europe/Amsterdam
X-LIC-LOCATION:Europe/Amsterdam
BEGIN:STANDARD
DTSTART:20171029T020000
TZOFFSETFROM:+0200
TZOFFSETTO:+0100
TZNAME:CET
END:STANDARD
END:VTIMEZONE
END:VCALENDAR