BEGIN:VCALENDAR
VERSION:2.0
PRODID:-//wp-events-plugin.com//7.2.3.1//EN
TZID:Europe/Amsterdam
X-WR-TIMEZONE:Europe/Amsterdam
BEGIN:VEVENT
UID:19158@worldglaucomaweek.org
DTSTART;TZID=Europe/Helsinki:20250311T090000
DTEND;TZID=Europe/Helsinki:20250311T150000
DTSTAMP:20250310T070059Z
URL:https://www.worldglaucomaweek.org/activity/glaucoma-screening-event-11
 /
SUMMARY:Glaucoma screening event
DESCRIPTION:Nurses and ophthalmologists are present
CATEGORIES:Screening event
LOCATION:Lahti\, Silmäklinikka\, 2krs\, kauppakeskus Trio\, Aleksanterinka
 tu 18\, Lahti\, Finland\, 15140\, Finland
GEO:60.982762;25.661922
X-APPLE-STRUCTURED-LOCATION;VALUE=URI;X-ADDRESS=Silmäklinikka\, 2krs\, kau
 ppakeskus Trio\, Aleksanterinkatu 18\, Lahti\, Finland\, 15140\, Finland;X
 -APPLE-RADIUS=100;X-TITLE=Lahti:geo:60.982762,25.661922
END:VEVENT
BEGIN:VTIMEZONE
TZID:Europe/Helsinki
X-LIC-LOCATION:Europe/Helsinki
BEGIN:STANDARD
DTSTART:20241027T030000
TZOFFSETFROM:+0300
TZOFFSETTO:+0200
TZNAME:EET
END:STANDARD
END:VTIMEZONE
END:VCALENDAR