BEGIN:VCALENDAR
VERSION:2.0
PRODID:-//wp-events-plugin.com//7.2.3.1//EN
TZID:Europe/Amsterdam
X-WR-TIMEZONE:Europe/Amsterdam
BEGIN:VEVENT
UID:1912@worldglaucomaweek.org
DTSTART;TZID=Europe/Amsterdam:20180316T070000
DTEND;TZID=Europe/Amsterdam:20180316T130000
DTSTAMP:20180308T042619Z
URL:https://www.worldglaucomaweek.org/activity/glaucoma-screening-day-unid
 ad-nacional-de-oftalmologia/
SUMMARY:Glaucoma Screening Day Unidad Nacional de Oftalmología
DESCRIPTION:On friday march 16th\, the National Ophtalmology Unit in Guatem
 ala city is offering to all their patients\, free of charge full ophtalmol
 ogic evaluation for first time patients and screening for glaucoma. We are
  also offering discounts on special tests such as OCT and Visual fields.\n
 \nEducational talks and awareness videos will be shared with patients in w
 ating rooms to promote knowledge about the dissease.\n\nThe main goal of o
 ur activities is to raise awareness and educate our patients about rutinar
 y consultation and prevention.
CATEGORIES:Screening event
LOCATION:Unidad Nacional de Oftalmología\, 8va Calle 5-64 Col El Progreso 
 Zona 11 63177-Ciudad de Guatemala\, Guatemala\, Guatemala\, 63177\, Guatem
 ala
GEO:14.6174203;-90.55207089999999
X-APPLE-STRUCTURED-LOCATION;VALUE=URI;X-ADDRESS=8va Calle 5-64 Col El Progr
 eso Zona 11 63177-Ciudad de Guatemala\, Guatemala\, Guatemala\, 63177\, Gu
 atemala;X-APPLE-RADIUS=100;X-TITLE=Unidad Nacional de Oftalmología:geo:14
 .6174203,-90.55207089999999
END:VEVENT
BEGIN:VTIMEZONE
TZID:Europe/Amsterdam
X-LIC-LOCATION:Europe/Amsterdam
BEGIN:STANDARD
DTSTART:20171029T020000
TZOFFSETFROM:+0200
TZOFFSETTO:+0100
TZNAME:CET
END:STANDARD
END:VTIMEZONE
END:VCALENDAR