BEGIN:VCALENDAR
VERSION:2.0
PRODID:-//wp-events-plugin.com//7.2.3.1//EN
TZID:Europe/Amsterdam
X-WR-TIMEZONE:Europe/Amsterdam
BEGIN:VEVENT
UID:2774@worldglaucomaweek.org
DTSTART;TZID=Europe/Amsterdam:20190310T100000
DTEND;TZID=Europe/Amsterdam:20190316T160000
DTSTAMP:20190309T132524Z
URL:https://www.worldglaucomaweek.org/activity/glaucoma-screening-camp-3/
SUMMARY:Glaucoma screening camp
DESCRIPTION:
ATTACH;FMTTYPE=image/jpeg:https://www.worldglaucomaweek.org/wp-content/upl
 oads/2019/03/WhatsApp-Image-2019-03-08-at-7.22.22-PM.jpeg
CATEGORIES:Screening event
END:VEVENT
BEGIN:VTIMEZONE
TZID:Europe/Amsterdam
X-LIC-LOCATION:Europe/Amsterdam
BEGIN:STANDARD
DTSTART:20181028T020000
TZOFFSETFROM:+0200
TZOFFSETTO:+0100
TZNAME:CET
END:STANDARD
END:VTIMEZONE
END:VCALENDAR