BEGIN:VCALENDAR
VERSION:2.0
PRODID:-//wp-events-plugin.com//7.2.3.1//EN
TZID:Europe/Amsterdam
X-WR-TIMEZONE:Europe/Amsterdam
BEGIN:VEVENT
UID:1468@worldglaucomaweek.org
DTSTART;TZID=Europe/Amsterdam;VALUE=DATE:20170313
DTEND;TZID=Europe/Amsterdam;VALUE=DATE:20170319
DTSTAMP:20170403T234652Z
URL:https://www.worldglaucomaweek.org/activity/glaucoma-screening-and-lay-
 forum-33/
SUMMARY:Glaucoma Screening and Lay Forum
DESCRIPTION:
CATEGORIES:Public educational
LOCATION:Capiz Emmanuel Hospital\, Roxas Ave.\, Roxas City\, Capiz\, Philip
 pines
GEO:11.5753201;122.75326339999992
X-APPLE-STRUCTURED-LOCATION;VALUE=URI;X-ADDRESS=Roxas Ave.\, Roxas City\, C
 apiz\, Philippines;X-APPLE-RADIUS=100;X-TITLE=Capiz Emmanuel Hospital:geo:
 11.5753201,122.75326339999992
END:VEVENT
BEGIN:VTIMEZONE
TZID:Europe/Amsterdam
X-LIC-LOCATION:Europe/Amsterdam
BEGIN:STANDARD
DTSTART:20161030T020000
TZOFFSETFROM:+0200
TZOFFSETTO:+0100
TZNAME:CET
END:STANDARD
END:VTIMEZONE
END:VCALENDAR