BEGIN:VCALENDAR
VERSION:2.0
PRODID:-//wp-events-plugin.com//7.2.3.1//EN
TZID:Europe/Amsterdam
X-WR-TIMEZONE:Europe/Amsterdam
BEGIN:VEVENT
UID:8000@worldglaucomaweek.org
DTSTART:20240311T033000Z
DTEND:20240315T073000Z
DTSTAMP:20240311T052306Z
URL:https://www.worldglaucomaweek.org/activity/glaucoma-screening-138/
SUMMARY:Glaucoma screening
DESCRIPTION:Free glaucoma screening including intraocular pressure and opti
 c nerve head assessment for all patients above 40 years\, relatives of gla
 ucoma patients\, those with high refractive errors and for diabetics.
CATEGORIES:Screening event
LOCATION:PRS hospital\, Killipalam\, Thiruvananthapuram\, Kerala\, India
GEO:8.476219;76.959985
X-APPLE-STRUCTURED-LOCATION;VALUE=URI;X-ADDRESS=Killipalam\, Thiruvananthap
 uram\, Kerala\, India;X-APPLE-RADIUS=100;X-TITLE=PRS hospital:geo:8.476219
 ,76.959985
END:VEVENT
END:VCALENDAR