BEGIN:VCALENDAR
VERSION:2.0
PRODID:-//wp-events-plugin.com//7.2.3.1//EN
TZID:Europe/Amsterdam
X-WR-TIMEZONE:Europe/Amsterdam
BEGIN:VEVENT
UID:2894@worldglaucomaweek.org
DTSTART;TZID=Europe/Amsterdam:20190306T090000
DTEND;TZID=Europe/Amsterdam:20190312T140000
DTSTAMP:20190312T161129Z
URL:https://www.worldglaucomaweek.org/activity/glaucoma-screening-110/
SUMMARY:Glaucoma screening
DESCRIPTION:we screen glaucoma from general ophthalmology Op. every day 
ATTACH;FMTTYPE=image/jpeg:https://www.worldglaucomaweek.org/wp-content/upl
 oads/2019/03/09B7E5AD-5B6E-447A-87FC-F356CAB686C5.jpeg
CATEGORIES:Screening event
LOCATION:Govt.Regional Eye Hospital\, REH\, Visakhapatnam \, Andhra Pradesh
  \, 530013\, Asia\, India
GEO:17.7415669;83.3121281
X-APPLE-STRUCTURED-LOCATION;VALUE=URI;X-ADDRESS=REH\, Visakhapatnam \, Andh
 ra Pradesh \, 530013\, Asia\, India;X-APPLE-RADIUS=100;X-TITLE=Govt.Region
 al Eye Hospital:geo:17.7415669,83.3121281
END:VEVENT
BEGIN:VTIMEZONE
TZID:Europe/Amsterdam
X-LIC-LOCATION:Europe/Amsterdam
BEGIN:STANDARD
DTSTART:20181028T020000
TZOFFSETFROM:+0200
TZOFFSETTO:+0100
TZNAME:CET
END:STANDARD
END:VTIMEZONE
END:VCALENDAR