BEGIN:VCALENDAR
VERSION:2.0
PRODID:-//wp-events-plugin.com//7.2.3.1//EN
TZID:Europe/Amsterdam
X-WR-TIMEZONE:Europe/Amsterdam
BEGIN:VEVENT
UID:2712@worldglaucomaweek.org
DTSTART;TZID=Europe/Amsterdam:20190310T130000
DTEND;TZID=Europe/Amsterdam:20190316T140000
DTSTAMP:20190307T080225Z
URL:https://www.worldglaucomaweek.org/activity/glaucoma-screening-107/
SUMMARY:Glaucoma screening
DESCRIPTION:
CATEGORIES:Screening event
LOCATION:University Eye Hospital\, Pasterova 2\, Belgrade\, Serbia\, 11000\
 , Europe\, Serbia
GEO:44.7999591;20.461368900000025
X-APPLE-STRUCTURED-LOCATION;VALUE=URI;X-ADDRESS=Pasterova 2\, Belgrade\, Se
 rbia\, 11000\, Europe\, Serbia;X-APPLE-RADIUS=100;X-TITLE=University Eye H
 ospital:geo:44.7999591,20.461368900000025
END:VEVENT
BEGIN:VTIMEZONE
TZID:Europe/Amsterdam
X-LIC-LOCATION:Europe/Amsterdam
BEGIN:STANDARD
DTSTART:20181028T020000
TZOFFSETFROM:+0200
TZOFFSETTO:+0100
TZNAME:CET
END:STANDARD
END:VTIMEZONE
END:VCALENDAR