BEGIN:VCALENDAR
VERSION:2.0
PRODID:-//wp-events-plugin.com//7.2.3.1//EN
TZID:Europe/Amsterdam
X-WR-TIMEZONE:Europe/Amsterdam
BEGIN:VEVENT
UID:2552@worldglaucomaweek.org
DTSTART;TZID=Europe/Amsterdam:20190315T000000
DTEND;TZID=Europe/Amsterdam:20190315T160000
DTSTAMP:20190226T074156Z
URL:https://www.worldglaucomaweek.org/activity/glaucoma-screening-105/
SUMMARY:Glaucoma screening
DESCRIPTION:Examinations will be in part of General hospital Pozarevac (Hea
 lth center Pozarevac\, Jovana Serbanovica 12).
CATEGORIES:Public educational
LOCATION:General Hospital Pozarevac\, Bratstva Jedinstva 135\, Pozarevac\, 
 Serbia\, 12000\, Serbia
GEO:44.6314301;21.187049600000023
X-APPLE-STRUCTURED-LOCATION;VALUE=URI;X-ADDRESS=Bratstva Jedinstva 135\, Po
 zarevac\, Serbia\, 12000\, Serbia;X-APPLE-RADIUS=100;X-TITLE=General Hospi
 tal Pozarevac:geo:44.6314301,21.187049600000023
END:VEVENT
BEGIN:VTIMEZONE
TZID:Europe/Amsterdam
X-LIC-LOCATION:Europe/Amsterdam
BEGIN:STANDARD
DTSTART:20181028T020000
TZOFFSETFROM:+0200
TZOFFSETTO:+0100
TZNAME:CET
END:STANDARD
END:VTIMEZONE
END:VCALENDAR