BEGIN:VCALENDAR
VERSION:2.0
PRODID:-//wp-events-plugin.com//7.2.3.1//EN
TZID:Europe/Amsterdam
X-WR-TIMEZONE:Europe/Amsterdam
BEGIN:VEVENT
UID:2830@worldglaucomaweek.org
DTSTART;TZID=Europe/Amsterdam;VALUE=DATE:20190314
DTEND;TZID=Europe/Amsterdam;VALUE=DATE:20190316
DTSTAMP:20190310T050213Z
URL:https://www.worldglaucomaweek.org/activity/glaucoma-school-7/
SUMMARY:Glaucoma School
DESCRIPTION:
CATEGORIES:Media coverage
LOCATION:Kazakh Eye Research Institute\, Tole bi street 95A\, Almaty\, 0500
 06\, Kazakhstan
GEO:43.2404043;76.83478960000002
X-APPLE-STRUCTURED-LOCATION;VALUE=URI;X-ADDRESS=Tole bi street 95A\, Almaty
 \, 050006\, Kazakhstan;X-APPLE-RADIUS=100;X-TITLE=Kazakh Eye Research Inst
 itute:geo:43.2404043,76.83478960000002
END:VEVENT
BEGIN:VTIMEZONE
TZID:Europe/Amsterdam
X-LIC-LOCATION:Europe/Amsterdam
BEGIN:STANDARD
DTSTART:20181028T020000
TZOFFSETFROM:+0200
TZOFFSETTO:+0100
TZNAME:CET
END:STANDARD
END:VTIMEZONE
END:VCALENDAR