BEGIN:VCALENDAR
VERSION:2.0
PRODID:-//wp-events-plugin.com//7.2.3.1//EN
TZID:Europe/Amsterdam
X-WR-TIMEZONE:Europe/Amsterdam
BEGIN:VEVENT
UID:2376@worldglaucomaweek.org
DTSTART;TZID=Europe/Amsterdam:20190307T143000
DTEND;TZID=Europe/Amsterdam:20190307T160000
DTSTAMP:20190222T070918Z
URL:https://www.worldglaucomaweek.org/activity/glaucoma-school-5/
SUMMARY:Glaucoma School
DESCRIPTION:This venue we organized for patients and their frienrds who int
 erested about glaucoma.  The lecture will be: Neuroprotection and Glaucom
 a. Lecturer: Dr Uzunova.\nGlaucoma Schhol was the first of its kind to be 
 established in Plovdiv\, Bulgaria  in 2009 by Dr Uzunova. This year we ce
 lebrate 10 years!\n\n&nbsp\;
CATEGORIES:Public educational
LOCATION:Centre for science and technology\, 1 Gladston Str.\, Plovdiv\, 40
 00\, Bulgaria
GEO:42.1424968;24.745250800000008
X-APPLE-STRUCTURED-LOCATION;VALUE=URI;X-ADDRESS=1 Gladston Str.\, Plovdiv\,
  4000\, Bulgaria;X-APPLE-RADIUS=100;X-TITLE=Centre for science and technol
 ogy:geo:42.1424968,24.745250800000008
END:VEVENT
BEGIN:VTIMEZONE
TZID:Europe/Amsterdam
X-LIC-LOCATION:Europe/Amsterdam
BEGIN:STANDARD
DTSTART:20181028T020000
TZOFFSETFROM:+0200
TZOFFSETTO:+0100
TZNAME:CET
END:STANDARD
END:VTIMEZONE
END:VCALENDAR