BEGIN:VCALENDAR
VERSION:2.0
PRODID:-//wp-events-plugin.com//7.2.3.1//EN
TZID:Europe/Amsterdam
X-WR-TIMEZONE:Europe/Amsterdam
BEGIN:VEVENT
UID:645@worldglaucomaweek.org
DTSTART;TZID=Europe/Amsterdam:20160311T140000
DTEND;TZID=Europe/Amsterdam:20160311T150000
DTSTAMP:20170205T084252Z
URL:https://www.worldglaucomaweek.org/activity/glaucoma-school-2/
SUMMARY:Glaucoma School
DESCRIPTION:Glaucoma School was the first of its kind to be established in 
 Plovdiv\, Bulgaria in 2009 by Dr Uzunova. The event on 11 March is a part 
 of a series of lectures\, organized to raise the awareness of patients and
  their friends or relatives who are interested in glaucoma.\nLecturer: Dr 
 Uzunova
ATTACH;FMTTYPE=image/jpeg:https://www.worldglaucomaweek.org/wp-content/upl
 oads/2016/02/23787_10150189687500193_2055952_n.jpg
CATEGORIES:Public educational
LOCATION:Centre for science and technology\, 1 Gladston Str.\, Plovdiv\, 40
 00\, Bulgaria
GEO:42.1424968;24.745250800000008
X-APPLE-STRUCTURED-LOCATION;VALUE=URI;X-ADDRESS=1 Gladston Str.\, Plovdiv\,
  4000\, Bulgaria;X-APPLE-RADIUS=100;X-TITLE=Centre for science and technol
 ogy:geo:42.1424968,24.745250800000008
END:VEVENT
BEGIN:VTIMEZONE
TZID:Europe/Amsterdam
X-LIC-LOCATION:Europe/Amsterdam
BEGIN:STANDARD
DTSTART:20151025T020000
TZOFFSETFROM:+0200
TZOFFSETTO:+0100
TZNAME:CET
END:STANDARD
END:VTIMEZONE
END:VCALENDAR