BEGIN:VCALENDAR
VERSION:2.0
PRODID:-//wp-events-plugin.com//7.2.3.1//EN
TZID:Europe/Amsterdam
X-WR-TIMEZONE:Europe/Amsterdam
BEGIN:VEVENT
UID:2605@worldglaucomaweek.org
DTSTART;TZID=Europe/Amsterdam:20190316T080000
DTEND;TZID=Europe/Amsterdam:20190316T140000
DTSTAMP:20190304T210421Z
URL:https://www.worldglaucomaweek.org/activity/glaucoma-research-foundatio
 n-patient-summit/
SUMMARY:Glaucoma Patient Summit
DESCRIPTION:The First Annual Glaucoma Research Foundation Patient Summit wi
 ll highlight advances in treatment options and practical information to he
 lp patients understand and live with glaucoma. Held in downtown San Franci
 sco during World Glaucoma Week\, speakers at the Patient Summit will inclu
 de leading glaucoma specialists\, patients and caregivers.
ATTACH;FMTTYPE=image/jpeg:https://www.worldglaucomaweek.org/wp-content/upl
 oads/2019/03/patient_summit_610b.png
CATEGORIES:Public educational
LOCATION:The Park Central Hotel\, 50 Third Street\, San Francisco\, CA\, 94
 103\, United States
GEO:37.7864234;-122.4031008
X-APPLE-STRUCTURED-LOCATION;VALUE=URI;X-ADDRESS=50 Third Street\, San Franc
 isco\, CA\, 94103\, United States;X-APPLE-RADIUS=100;X-TITLE=The Park Cent
 ral Hotel:geo:37.7864234,-122.4031008
END:VEVENT
BEGIN:VTIMEZONE
TZID:Europe/Amsterdam
X-LIC-LOCATION:Europe/Amsterdam
BEGIN:STANDARD
DTSTART:20181028T020000
TZOFFSETFROM:+0200
TZOFFSETTO:+0100
TZNAME:CET
END:STANDARD
END:VTIMEZONE
END:VCALENDAR