BEGIN:VCALENDAR
VERSION:2.0
PRODID:-//wp-events-plugin.com//7.2.3.1//EN
TZID:Europe/Amsterdam
X-WR-TIMEZONE:Europe/Amsterdam
BEGIN:VEVENT
UID:2597@worldglaucomaweek.org
DTSTART;TZID=Europe/Amsterdam:20190316T080000
DTEND;TZID=Europe/Amsterdam:20190316T120000
DTSTAMP:20190308T031509Z
URL:https://www.worldglaucomaweek.org/activity/glaucoma-public-seminar/
SUMMARY:Glaucoma Public Seminar
DESCRIPTION:JEC Eye Hospitals and Clinics mengadakan seminar publik yang be
 rtemakan : Hindari Jeratan Lingkaran Hitam Glaukoma Si Pencuri Penglihatan
 .\n\nPada : Sabtu 16 Maret 2019\nPukul : 08.00 sampai dengan selesai\nLoka
 si : Klinik Utama Mata JEC @ Cinere\n\nDengan Pembicara :\n\nDr. Referano 
 Agustiawan\, SpM(K)\nDr. Zeiras Eka Djamal\, SpM\nDr. Alia Arianti\, SpM\n
 Dr. Arini Nurul Akbar\, SpM\nDr. Paramastri Arintawati\, SpM\n\nSegera daf
 tarkan diri Anda pada seminar ini\, biaya pendaftaran Rp. 25.000\,- (sudah
  termasuk snack/light meal dan voucher screening mata)\n\nTempat terbatas!
ATTACH;FMTTYPE=image/jpeg:https://www.worldglaucomaweek.org/wp-content/upl
 oads/2019/03/Glaukoma-1200x1200.jpg
CATEGORIES:Public educational
LOCATION:Klinik Utama Mata JEC @ Cinere\,  Jl. Cinere Raya No.19\, Cinere\,
  Kota Depok\, Jawa Barat 16514\, Cinere\, Depok\, 16514\, Jawa Barat\, Ind
 onesia
GEO:-6.3458716;106.77635839999994
X-APPLE-STRUCTURED-LOCATION;VALUE=URI;X-ADDRESS= Jl. Cinere Raya No.19\, Ci
 nere\, Kota Depok\, Jawa Barat 16514\, Cinere\, Depok\, 16514\, Jawa Barat
 \, Indonesia;X-APPLE-RADIUS=100;X-TITLE=Klinik Utama Mata JEC @ Cinere:geo
 :-6.3458716,106.77635839999994
END:VEVENT
BEGIN:VTIMEZONE
TZID:Europe/Amsterdam
X-LIC-LOCATION:Europe/Amsterdam
BEGIN:STANDARD
DTSTART:20181028T020000
TZOFFSETFROM:+0200
TZOFFSETTO:+0100
TZNAME:CET
END:STANDARD
END:VTIMEZONE
END:VCALENDAR